BEGIN:VCALENDAR
VERSION:2.0
PRODID:-//River Landing - ECPv6.15.20//NONSGML v1.0//EN
CALSCALE:GREGORIAN
METHOD:PUBLISH
X-WR-CALNAME:River Landing
X-ORIGINAL-URL:https://riverlanding.com
X-WR-CALDESC:Events for River Landing
REFRESH-INTERVAL;VALUE=DURATION:PT1H
X-Robots-Tag:noindex
X-PUBLISHED-TTL:PT1H
BEGIN:VTIMEZONE
TZID:America/New_York
BEGIN:DAYLIGHT
TZOFFSETFROM:-0500
TZOFFSETTO:-0400
TZNAME:EDT
DTSTART:20240310T070000
END:DAYLIGHT
BEGIN:STANDARD
TZOFFSETFROM:-0400
TZOFFSETTO:-0500
TZNAME:EST
DTSTART:20241103T060000
END:STANDARD
BEGIN:DAYLIGHT
TZOFFSETFROM:-0500
TZOFFSETTO:-0400
TZNAME:EDT
DTSTART:20250309T070000
END:DAYLIGHT
BEGIN:STANDARD
TZOFFSETFROM:-0400
TZOFFSETTO:-0500
TZNAME:EST
DTSTART:20251102T060000
END:STANDARD
BEGIN:DAYLIGHT
TZOFFSETFROM:-0500
TZOFFSETTO:-0400
TZNAME:EDT
DTSTART:20260308T070000
END:DAYLIGHT
BEGIN:STANDARD
TZOFFSETFROM:-0400
TZOFFSETTO:-0500
TZNAME:EST
DTSTART:20261101T060000
END:STANDARD
END:VTIMEZONE
BEGIN:VEVENT
DTSTART;TZID=America/New_York:20251103T101500
DTEND;TZID=America/New_York:20251103T111500
DTSTAMP:20260424T224758
CREATED:20250131T142242Z
LAST-MODIFIED:20251212T142732Z
UID:10013363-1762164900-1762168500@riverlanding.com
SUMMARY:Yoga
DESCRIPTION:
URL:https://riverlanding.com/event/yoga-57-7-2-4/2025-11-03/
CATEGORIES:Fitness Calendar 2
END:VEVENT
BEGIN:VEVENT
DTSTART;TZID=America/New_York:20251103T161500
DTEND;TZID=America/New_York:20251103T171500
DTSTAMP:20260424T224758
CREATED:20240429T134850Z
LAST-MODIFIED:20251212T142426Z
UID:10010141-1762186500-1762190100@riverlanding.com
SUMMARY:Strength & Flow - Chair Edition
DESCRIPTION:
URL:https://riverlanding.com/event/strength-flow-chair-edition-57-13-3/2025-11-03/
CATEGORIES:Fitness Calendar 2
END:VEVENT
BEGIN:VEVENT
DTSTART;TZID=America/New_York:20251103T173000
DTEND;TZID=America/New_York:20251103T183000
DTSTAMP:20260424T224758
CREATED:20240429T134020Z
LAST-MODIFIED:20251212T141819Z
UID:10010999-1762191000-1762194600@riverlanding.com
SUMMARY:Bootcamp
DESCRIPTION:
URL:https://riverlanding.com/event/bootcamp-29-8-2/2025-11-03/
CATEGORIES:Fitness Calendar 2
END:VEVENT
END:VCALENDAR