BEGIN:VCALENDAR
VERSION:2.0
PRODID:-//River Landing - ECPv6.15.20//NONSGML v1.0//EN
CALSCALE:GREGORIAN
METHOD:PUBLISH
X-ORIGINAL-URL:https://riverlanding.com
X-WR-CALDESC:Events for River Landing
REFRESH-INTERVAL;VALUE=DURATION:PT1H
X-Robots-Tag:noindex
X-PUBLISHED-TTL:PT1H
BEGIN:VTIMEZONE
TZID:America/New_York
BEGIN:DAYLIGHT
TZOFFSETFROM:-0500
TZOFFSETTO:-0400
TZNAME:EDT
DTSTART:20240310T070000
END:DAYLIGHT
BEGIN:STANDARD
TZOFFSETFROM:-0400
TZOFFSETTO:-0500
TZNAME:EST
DTSTART:20241103T060000
END:STANDARD
BEGIN:DAYLIGHT
TZOFFSETFROM:-0500
TZOFFSETTO:-0400
TZNAME:EDT
DTSTART:20250309T070000
END:DAYLIGHT
BEGIN:STANDARD
TZOFFSETFROM:-0400
TZOFFSETTO:-0500
TZNAME:EST
DTSTART:20251102T060000
END:STANDARD
BEGIN:DAYLIGHT
TZOFFSETFROM:-0500
TZOFFSETTO:-0400
TZNAME:EDT
DTSTART:20260308T070000
END:DAYLIGHT
BEGIN:STANDARD
TZOFFSETFROM:-0400
TZOFFSETTO:-0500
TZNAME:EST
DTSTART:20261101T060000
END:STANDARD
END:VTIMEZONE
BEGIN:VEVENT
DTSTART;VALUE=DATE:20251020
DTEND;VALUE=DATE:20251021
DTSTAMP:20260421T033429
CREATED:20250102T173810Z
LAST-MODIFIED:20250102T173810Z
UID:10013056-1760918400-1761004799@riverlanding.com
SUMMARY:RLGALS 9 & Wine
DESCRIPTION:
URL:https://riverlanding.com/event/rlgals-9-wine-6/
CATEGORIES:Golf
END:VEVENT
BEGIN:VEVENT
DTSTART;TZID=America/New_York:20251020T161500
DTEND;TZID=America/New_York:20251020T171500
DTSTAMP:20260421T033429
CREATED:20240429T134850Z
LAST-MODIFIED:20251212T142426Z
UID:10010139-1760976900-1760980500@riverlanding.com
SUMMARY:Strength & Flow - Chair Edition
DESCRIPTION:
URL:https://riverlanding.com/event/strength-flow-chair-edition-57-13-3/2025-10-20/
CATEGORIES:Fitness Calendar 2
END:VEVENT
BEGIN:VEVENT
DTSTART;TZID=America/New_York:20251020T173000
DTEND;TZID=America/New_York:20251020T183000
DTSTAMP:20260421T033429
CREATED:20240429T134020Z
LAST-MODIFIED:20251212T141819Z
UID:10010997-1760981400-1760985000@riverlanding.com
SUMMARY:Bootcamp
DESCRIPTION:
URL:https://riverlanding.com/event/bootcamp-29-8-2/2025-10-20/
CATEGORIES:Fitness Calendar 2
END:VEVENT
END:VCALENDAR